BEGIN:VCALENDAR
VERSION:2.0
PRODID:-//Tukios.com/
BEGIN:VEVENT
UID:9418f75f-cde0-458e-b0e0-5a06d52095fa@www.aguerofuneral.com
DTSTAMP:20260420T201721Z
DTSTART:20260423T210000Z
DTEND:20260424T020000Z
SUMMARY:Visitation
DESCRIPTION:A celebration of his life will be held on Thursday, April 23, 
	2026, from 4:00 p.m. to 9:00 p.m. at Aguero Funeral Home and Crematorium, 
	4402 E. Saunders St., Laredo, TX 78041.  A rosary will be held at 7:00 
	p.m.

A chapel service will be held on Friday, April 24, 2026, at 10:00 
	a.m. at Aguero Funeral Home and Crematorium, 4402 E. Saunders St., 
	Laredo, TX 78041.

Interment will follow at the family plot in the 
	Calvary Catholic Cemetery.
URL:https://www.aguerofuneral.com/obituaries/narciso-saavedra-aguirre
LOCATION: 4402 E Saunders St  Laredo TX 78041
GEO:27.5293061;-99.4528038
END:VEVENT
END:VCALENDAR